BEGIN:VCALENDAR
VERSION:2.0
PRODID:-//Evelyn Berkecz - ECPv5.2.0//NONSGML v1.0//EN
CALSCALE:GREGORIAN
METHOD:PUBLISH
X-WR-CALNAME:Evelyn Berkecz
X-ORIGINAL-URL:https://www.evelynberkecz.com
X-WR-CALDESC:Events for Evelyn Berkecz
BEGIN:VTIMEZONE
TZID:UTC
BEGIN:STANDARD
TZOFFSETFROM:+0000
TZOFFSETTO:+0000
TZNAME:UTC
DTSTART:20210101T000000
END:STANDARD
END:VTIMEZONE
BEGIN:VEVENT
DTSTART;TZID=UTC:20210430T200000
DTEND;TZID=UTC:20210430T230000
DTSTAMP:20260422T190403
CREATED:20201104T123724Z
LAST-MODIFIED:20201119T162424Z
UID:6697-1619812800-1619823600@www.evelynberkecz.com
SUMMARY:Evelyn Berkecz @ Jazz Club Kammerlichtspiele
DESCRIPTION:Evelyn Berkecz @ Jazz Club Kammerlichtspiele in Klagenfurt \nDatum: 30.04.2021 \nBeginn: 20:00 Uhr \n  \nDue to the current Corona regulations\, a seat reservation is recommended. \n 
URL:https://www.evelynberkecz.com/event/evelyn-berkecz-jazz-club-kammerlichtspiele/
ATTACH;FMTTYPE=image/jpeg:https://www.evelynberkecz.com/wp-content/uploads/2020/10/122922952_275079617185974_6944563457655839018_n.jpg
END:VEVENT
END:VCALENDAR